BEGIN:VCALENDAR
VERSION:2.0
PRODID:-//KOMPETENZ FÜR DIE ZUKUNFT - ECPv6.15.19//NONSGML v1.0//EN
CALSCALE:GREGORIAN
METHOD:PUBLISH
X-WR-CALNAME:KOMPETENZ FÜR DIE ZUKUNFT
X-ORIGINAL-URL:https://www.hakeferding.at
X-WR-CALDESC:Veranstaltungen für KOMPETENZ FÜR DIE ZUKUNFT
REFRESH-INTERVAL;VALUE=DURATION:PT1H
X-Robots-Tag:noindex
X-PUBLISHED-TTL:PT1H
BEGIN:VTIMEZONE
TZID:Europe/Vienna
BEGIN:DAYLIGHT
TZOFFSETFROM:+0100
TZOFFSETTO:+0200
TZNAME:CEST
DTSTART:20250330T010000
END:DAYLIGHT
BEGIN:STANDARD
TZOFFSETFROM:+0200
TZOFFSETTO:+0100
TZNAME:CET
DTSTART:20251026T010000
END:STANDARD
BEGIN:DAYLIGHT
TZOFFSETFROM:+0100
TZOFFSETTO:+0200
TZNAME:CEST
DTSTART:20260329T010000
END:DAYLIGHT
BEGIN:STANDARD
TZOFFSETFROM:+0200
TZOFFSETTO:+0100
TZNAME:CET
DTSTART:20261025T010000
END:STANDARD
BEGIN:DAYLIGHT
TZOFFSETFROM:+0100
TZOFFSETTO:+0200
TZNAME:CEST
DTSTART:20270328T010000
END:DAYLIGHT
BEGIN:STANDARD
TZOFFSETFROM:+0200
TZOFFSETTO:+0100
TZNAME:CET
DTSTART:20271031T010000
END:STANDARD
END:VTIMEZONE
BEGIN:VEVENT
DTSTART;VALUE=DATE:20260420
DTEND;VALUE=DATE:20260425
DTSTAMP:20260420T020532
CREATED:20260125T173728Z
LAST-MODIFIED:20260125T173728Z
UID:5052-1776643200-1777075199@www.hakeferding.at
SUMMARY:Anmeldewoche SOST-Prüfungen
DESCRIPTION:
URL:https://www.hakeferding.at/event/anmeldewoche-sost-pruefungen-3/
CATEGORIES:Termine
END:VEVENT
BEGIN:VEVENT
DTSTART;TZID=Europe/Vienna:20260420T140000
DTEND;TZID=Europe/Vienna:20260420T140000
DTSTAMP:20260420T020532
CREATED:20260125T173630Z
LAST-MODIFIED:20260125T173630Z
UID:5050-1776693600-1776693600@www.hakeferding.at
SUMMARY:Notenschluss 5ABK\, 3AS
DESCRIPTION:
URL:https://www.hakeferding.at/event/notenschluss-5abk-3as-3/
CATEGORIES:Termine
END:VEVENT
END:VCALENDAR